BEGIN:VCALENDAR
VERSION:2.0
PRODID:-//IlluminAge WordPress Calendar Plugin//
CALSCALE:GREGORIAN
METHOD:PUBLISH
X-WR-CALNAME:North Carolina Health Care Facilites Association
X-WR-CALDESC:
X-FROM-URL:https://www.nchcfa.org
BEGIN:VEVENT
URL:https://www.nchcfa.org/nchcfa-district-iii-meeting/
UID:https://www.nchcfa.org/nchcfa-district-iii-meeting/
DTSTAMP:20260425T142739Z
DTSTART: 20260428T140000Z
DTEND: 20260428T180000Z
SUMMARY:NCHCFA District III Meeting
CONTACT:
LOCATION:Trinity Elms - 7449 Fair Oaks Drive, Clemmons, NC 27012
END:VEVENT
END:VCALENDAR