BEGIN:VCALENDAR
VERSION:2.0
PRODID:-//IlluminAge WordPress Calendar Plugin//
CALSCALE:GREGORIAN
METHOD:PUBLISH
X-WR-CALNAME:North Carolina Health Care Facilites Association
X-WR-CALDESC:
X-FROM-URL:https://www.nchcfa.org
BEGIN:VEVENT
URL:https://www.nchcfa.org/quality-measure-deep-dive-webinar-series/
UID:https://www.nchcfa.org/quality-measure-deep-dive-webinar-series/
DTSTAMP:20260421T115248Z
DTSTART: 20260422T183000Z
DTEND: 20260422T193000Z
SUMMARY:Quality Measure Deep Dive Webinar Series
CONTACT:
LOCATION: - , 
END:VEVENT
END:VCALENDAR