BEGIN:VCALENDAR
VERSION:2.0
PRODID:-//IlluminAge WordPress Calendar Plugin//
CALSCALE:GREGORIAN
METHOD:PUBLISH
X-WR-CALNAME:North Carolina Health Care Facilites Association
X-WR-CALDESC:
X-FROM-URL:https://www.nchcfa.org
BEGIN:VEVENT
URL:https://www.nchcfa.org/roadmap-to-5-star-wins-six-week-webinar-series-5/
UID:https://www.nchcfa.org/roadmap-to-5-star-wins-six-week-webinar-series-5/
DTSTAMP:20260419T141945Z
DTSTART: 20260311T183000Z
DTEND: 20260311T193000Z
SUMMARY:Roadmap to 5-Star Wins: Six-Week Webinar Series
CONTACT:
LOCATION: - , 
END:VEVENT
END:VCALENDAR