BEGIN:VCALENDAR
VERSION:2.0
PRODID:-//IlluminAge WordPress Calendar Plugin//
CALSCALE:GREGORIAN
METHOD:PUBLISH
X-WR-CALNAME:North Carolina Health Care Facilites Association
X-WR-CALDESC:
X-FROM-URL:https://www.nchcfa.org
BEGIN:VEVENT
URL:https://www.nchcfa.org/webinar-series-survey-and-clinical-risk-management-evaluating-quality-and-survey-outcomes-2/
UID:https://www.nchcfa.org/webinar-series-survey-and-clinical-risk-management-evaluating-quality-and-survey-outcomes-2/
DTSTAMP:20260421T082733Z
DTSTART: 20260310T183000Z
DTEND: 20260310T193000Z
SUMMARY:Webinar Series - Survey and Clinical Risk Management: Evaluating Quality and Survey Outcomes
CONTACT:
LOCATION: - , 
END:VEVENT
END:VCALENDAR