BEGIN:VCALENDAR
VERSION:2.0
PRODID:-//IlluminAge WordPress Calendar Plugin//
CALSCALE:GREGORIAN
METHOD:PUBLISH
X-WR-CALNAME:North Carolina Health Care Facilites Association
X-WR-CALDESC:
X-FROM-URL:https://www.nchcfa.org
BEGIN:VEVENT
URL:https://www.nchcfa.org/reducing-litigation-risk-for-snf-al-3/
UID:https://www.nchcfa.org/reducing-litigation-risk-for-snf-al-3/
DTSTAMP:20260419T141915Z
DTSTART: 20250415T183000Z
DTEND: 20250415T193000Z
SUMMARY:Reducing Litigation Risk for SNF & AL
CONTACT:
LOCATION: - , 
END:VEVENT
END:VCALENDAR