BEGIN:VCALENDAR
VERSION:2.0
PRODID:-//IlluminAge WordPress Calendar Plugin//
CALSCALE:GREGORIAN
METHOD:PUBLISH
X-WR-CALNAME:North Carolina Health Care Facilites Association
X-WR-CALDESC:
X-FROM-URL:https://www.nchcfa.org
BEGIN:VEVENT
URL:https://www.nchcfa.org/ahca-ncal-national-quality-award-bronze-workshops/
UID:https://www.nchcfa.org/ahca-ncal-national-quality-award-bronze-workshops/
DTSTAMP:20260421T090242Z
DTSTART: 20241113T190000Z
DTEND: 20241113T210000Z
SUMMARY:AHCA/NCAL National Quality Award: Bronze Workshops
CONTACT:
LOCATION: - , 
END:VEVENT
END:VCALENDAR