BEGIN:VCALENDAR
VERSION:2.0
PRODID:-//IlluminAge WordPress Calendar Plugin//
CALSCALE:GREGORIAN
METHOD:PUBLISH
X-WR-CALNAME:North Carolina Health Care Facilites Association
X-WR-CALDESC:
X-FROM-URL:https://www.nchcfa.org
BEGIN:VEVENT
URL:https://www.nchcfa.org/2023-convention-expo/
UID:https://www.nchcfa.org/2023-convention-expo/
DTSTAMP:20260422T092231Z
DTSTART: 20230219T050000Z
DTEND: 20230223T045959Z
SUMMARY:2023 NCHCFA Annual Convention & Expo
CONTACT:
LOCATION:Sheraton Greensboro at Four Seasons - 3121 W Gate City Blvd., Greensboro, NC  27407
END:VEVENT
END:VCALENDAR